Workbook

Sheet  Kurzcheck CMS
B2: Allgemeine Informationen
B4: Vor- & Nachname
B6: Unternehmen
B8: E-Mail Adresse
B13: Unternehmen
B14: Haben Sie unternehmensspezifische Nachhaltigkeitsziele definiert?
B15: Nein | G15: =VLOOKUP(B15,'Drop Down Unternehmen'!B6:C7,2,0) -> 0
B16: Berücksichtigen Sie Nachhaltigkeitsaspekte in Ihrem Lieferantenmanagement?
B17: Nein | G17: =VLOOKUP(B17,'Drop Down Unternehmen'!B10:C11,2,0) -> 0
B18: Erstellen Sie einen Nachhaltigkeitsbericht?
B19: Nein | G19: =VLOOKUP(B19,'Drop Down Unternehmen'!B14:C15,2,0) -> 0
B20: Kommunizieren Sie darüberhinaus die Nachhaltigkeitsbestrebungen Ihres Unternehmens extern?
B21: Nein | G21: =VLOOKUP(B21,'Drop Down Unternehmen'!B18:C19,2,0) -> 0
B23: Lieferanten
B24: Sind Ihre Lieferanten EcoVadis evaluiert?
B25: Nicht EcoVadis evaluiert | G25: =VLOOKUP(B25,'Drop Down Menü'!A221:B222,2,0) -> 0
B26: Angebot eines nachhaltiges Sortiments
B27: Produkte mit Nachhaltigkeitslabel sind nicht gesondert im Sortiment hervorgehoben | G27: =VLOOKUP(B27,'Drop Down Menü'!A:B,2,0) -> 0
B29: Reiniger
B30: Nachhaltigkeitslabel
B31: Mehrzahl der Reinigungsmittel mit EU-Ecolabel (oder vergleichbar) | G31: =VLOOKUP(B31,'Drop Down Menü'!A17:B19,2,0) -> 5
B33: Reinigungstextilien
B34: Nachhaltigkeitslabel von Reinigungstextilien und Reinigunsgeräte in der Bodenreinigung
B35: Keine Nachhaltigkeitslabel | G35: =VLOOKUP(B35,'Drop Down Menü'!A40:B41,2,0) -> 0
B36: Nachhaltigkeitslabel von Reinigungstextilien und Reinigungsgeräten in der Oberflächenreinigung
B37: Keine Nachhaltigkeitslabel | G37: =VLOOKUP(B37,'Drop Down Menü'!A40:B41,2,0) -> 0
B39: Hygienepapiere
B40: Recycling für Hygienepapiere
B41: kein Interesse/nicht erwünscht | G41: =VLOOKUP(B41,'Drop Down Wasch'!A40:B43,2,0) -> 0
B42: Produkte mit Nachhaltigkeitslabel im Einsatz
B43: Keine Nachhaltigkeitslabel | G43: =VLOOKUP(B43,'Drop Down Wasch'!A50:B51,2,0) -> 0
B45: Abfallsäcke und Müllbeutel
B46: Nachhaltigkeitslabel von Abfallsäcken und Müllbeuteln
B47: Mehrzahl der Abfallsäcke mit Ecolabel z.B. Blauer Engel | G47: =VLOOKUP(B47,'Drop Down Abfallsäcke'!B14:C15,2,0) -> 10
B48: Wie hoch ist der durchschnittliche Recyklatanteil der von Ihnen eingesetzten Folien?
B49: Recyklatanteil 80% bis 95% | G49: =VLOOKUP(B49,'Drop Down Abfallsäcke'!B17:C21,2,0) -> 15
B51: Ihr Ergebnis*
D53: Das war erst der Einstieg…
D54: Ausführlich mit +100 Fragen checken!
B81: Auswertung | C81: Max | D81: Ist | E81: Prozent
B82: Unternehmen | C82: 60 | D82: =SUM(G15:G21) -> 0 | E82: =D82/C82 -> 0
B83: Lieferanten | C83: 25 | D83: =SUM(G25:G27) -> 0 | E83: =D83/C83 -> 0
B84: Reiniger | C84: 15 | D84: =G31 -> 5 | E84: =D84/C84 -> 0.33333333
B85: Reinigungstextilien | C85: 10 | D85: =SUM(G35:G38) -> 0 | E85: =D85/C85 -> 0
B86: Hygienepapier | C86: 25 | D86: =SUM(G41:G43) -> 0 | E86: =D86/C86 -> 0
B87: Abfallsäcke | C87: 30 | D87: =SUM(G47:G49) -> 25 | E87: =D87/C87 -> 0.83333333
B88: Summe/Wert | C88: =SUM(C82:C87) -> 165 | D88: =SUM(D82:D87) -> 30 | E88: =D88/C88 -> 0.18181818
B91: Tacho Daten
B92: Nadel
B93: Wert | C93: =E88 -> 0.18181818
B94: Breite | C94: 0.005
B95: Ende | C95: =2-C93-C94 -> 1.8131818

Sheet Tiefer einsteigen!

Sheet Ausführliche Checkliste Vorwort
C8: Selbstaudit: Checkliste Nachhaltigkeit in Reinigung & Hygiene
C10: Kennen Sie den Stand Ihrer Nachhaltigkeitsbemühungen? Machen Sie diese für sich sichtbar!
C11: Diese Checkliste dient der Ermittlung des Status Quo Ihrer Nachhaltigkeitsbemühungen in Ihrem Unternehmen. So sehen Sie auf einen Blick, wo Sie sich noch verbessern können. Anhand des im Fragebogen eingebauten Tachos, sehen Sie direkt in welchen Bereichen es in Ihrem Unternehmen noch Verbesserungspotentiale gibt. Die Checkliste beinhaltet verschiedene Themenbereiche (Reiter), wobei Sie bitte nur die Themenbereiche bewerten, die in Ihrem Unternehmen relevant sind. So sollte die Checkliste ausgefüllt werden: Gehen Sie Reiter für Reiter durch und füllen Sie die Reiter aus, die für Ihr Unternehmen relevant sind. Die Beantwortung der Fragen im Reiter" Allgemein" dient Ihnen, zu veranschaulichen, welche nachhaltigen Themen bei Ihnen aktuell bearbeitet werden und welche Strukturen bereits geschaffen wurden. Diese Fragen beziehen sich also auf Ihr Unternehmen. Die anderen Reiter füllen Sie bitte entweder für Ihren Hauptlieferanten aus oder Sie füllen die Reiter mehrfach aus, so dass Sie mehrere Produzenten, Systeme oder Lieferanten vergleichen können. Im jedem Reiter finden Sie auf der linken Seite die Frage und darunter oder auf der rechten Seite in grün hinterlegt, haben Sie die Möglichkeit über ein Drop-Down Menü die Antwort auszuwählen. Unter einigen Fragen haben Sie zusätzlich die Möglichkeit weitere Punkte zu notieren, die Sie dabei unterstützen sollen, sich weitere Gedanken über die Themen zu machen. Für Sie weniger relevante Bereiche können selbstverständlich übersprungen werden. Dies führt so keiner direkten Beeinflussung des Ergebnisses. Die Tachos visualisieren pro Themenbereich den Status Quo Ihrer Bemühungen. So können Sie ganz einfach sehen, welche Bereiche Sie als nächstes angehen können, um Ihr Unternehmen noch nachhaltiger zu machen. Gerne unterstützen wir Sie natürlich bei Ihren Bemühungen. Vereinbaren Sie einfach einen Termin mit Ihrem jeweiligen Ansprechpartner.

Sheet Glossar
B2: GLOSSAR
B4: Begriff | C4: Erklärung | D4: Weiterführende Informationen
B5: Abfallkonzept | C5: Abfallkonzept bedeutet, Ermittlung Status Quo in der Abfallentsorgung (ausgeschlossen gewerblicher Abfall) hinsichtlich Reduzierung CO2 und Kosten
B6: Cradle2Cradle | C6: Cradle2Cradle beschreibt und zertifiziert ein umweltgerechtes Kreislaufdesign von Produkten und Prozessen | D6: Cradle2Cradle bei Wikipedia
B7: CSR Rating | C7: Das CSR Rating belegt für Unternehmen die Einhaltung verbindlicher Regelwerke zur Sicherung von Qualitätsmerkmalen in den Bereichen Management, Produktgestaltung und Wertschöpfungsketten/Lieferketten. CSR Ratings sind u.a. Basis für eine EMAS Zertifizierung | D7: https://www.csr-in-deutschland.de/DE/CSR-Allgemein/CSR-in-der-Praxis/CSR-Berichterstattung/Zertifikate-und-Siegel/zertifikate-und-siegel.html
B8: Dienstleistungsangebot | C8: Dienstleistungsangebot bedeutet, kundenindividuelles Beschaffungsverhalten hinsichtlich festgelegten Nachhaltigkeitskriterien zu analysieren, Optimierungspotenziale aufzuzeigen und konkrete Handlungsempfehlungen zu geben
B9: Dosierhilfe Seife/Desinfektionsmittel | C9: Integrierte und kontrollierte Einzelportions-Ausgabe für Seifen- und Desinfektionsspender (manuell und elektronisch)
B10: ecoVadis | C10: nachhaltige Beschaffung auf Nachhaltigkeit und Verringerung Energieverbrauch, Überprüfung der Lieferketten weit über die gesetzliche Norm, Bewertung Umweltimpact | D10: https://support.ecovadis.com
B11: EMAS - Zertifizierung | C11: EMAS zertifiziert nachhaltige Lieferketten und Produktion/Verfahren eines Unternehmens und geht über ein reines CSR Rating hinaus, EMAS bewertet zudem Produktion und Umweltimpact standortbezogen | D11: https://www.emas.de/
B12: Ersatzteile | C12: Verschleißteile bei Spendersystemen sind als Ersatzteile erhältlich
B13: Handtuchspender | C13: Manuelle oder elektronische Falt- oder Rollenhandtuchspender (keine Luftstromtrockner)
B14: Hygienepapier | C14: Eingesetztes Hygienepapier im Waschraum (Handtuchpapier, Toilettenpapier)
B15: ISO 14001 | C15: Die Iso beschreibt gesetzliche Grundlagen zum Umweltschutz, Umweltmanagementnorm | D15: ISO_14001
B16: ISO 50001 | C16: Norm bewertet das Energiemanagement auf Grundlage des Energieeffizienzgesetzes | D16: ISO_50001
B17: ISO 9001 | C17: Qualitätsmanagentsystem | D17: ISO_9001
B18: Kontrollierte Ausgabe | C18: Kontrollierte Einzelblatt-Entnahme (für Toilettenpapier/Handtuchpapier) oder Einzelportion-Entnahme (für Seife/Desinfektionsmittel), um eine Verschwendung zu vermeiden (wahlweise manuell oder elektronisch möglich)
B19: KPI | C19: Key Performance Indicators (dt. Leistungskennzahl): Kennzahlen, anhand derer der Fortschritt oder der Erfüllungsgrad hinsichtlich wichtiger Zielsetzungen oder kritischer Erfolgsfaktoren innerhalb einer Organisation gemessen und/oder ermittelt werden.
B20: Kreislaufsystem der Wiederverwendung | C20: Nach der Verwenung der Abfallsäcke werden diese gesammelt und dem Produzenten zurückgegeben, damit diese neue Abfallsäcke daraus produzieren kann.
B21: Lieferkettensorgfaltspflichtengesetz | C21: Gesetzliche Vorgabe, momentan noch abhängig von der Unternehmensgröße, regelmäßige Verschärfung der Kriterien durch den Gesetzgeber | D21: https://www.bmas.de
B22: Manuelle Aufbereitung | C22: Dabei werden die Bezüge in eine Box gelegt und mit Hilfe eines Siebes getränkt​
B23: Maschinelle Aufbereitung | C23: Dabei wird im letzten Spülgang der Waschmaschine die entsprechende Reinigungsflotte zugeführt und mit Hilfe der Schleuderdrehzahl oder über Wassermenge, der entsprechende Feuchtigkeitsgrad eingestellt​
B24: Mehrwegkonzept | C24: Mehrwegkonzept bedeutet, wiederverwendbare Artikel konzeptionell einzusetzen
B25: Nachhaltiges Produktdesign | C25: Innovative Produkt-Technologien, die zur Nachhaltigkeit beitragen.
B26: Nachhaltigkeitslabel / Ecolabel | C26: Zertifizierungen über die bessere Umweltverträglichkeit mit einem in der EU gelisteten Ecolabel | D26: https://www.ecolabelindex.com/ecolabels/?st=country,de
B27: Recyclat | C27: Kunststoff z.B. für Flaschen, der aus einem Abfallsammelsystem - z.B. "Gelber Sack" stammt und somit wiederverwendet wird | D27: https://de.wikipedia.org/wiki/Verwertung_von_Kunststoffabf%C3%A4llen
B28: Recycling für Hygienepapier | C28: Papierhandtücher, die ausschließlich zum Trocknen genutzt wurden, können recycelt und in separaten Erfassungssystemen, getrennt von weiteren Papierfraktionen entsorgt werden. Diese Produkte enthalten sogenannte Nassfestmittel, damit sie sich beim Kontakt mit Wasser nicht gleich auflösen. Daher müssen sie speziellen Aufbereitungsverfahren in der Papierindustrie zugeführt werden und können somit von Herstellern direkt recycelt werden.
B29: Recyclingfaser | C29: Anteil der recycelten Faser innerhalb des Hygienepapiers (keine Frischfasern).
B30: Restrollenfunktion | C30: 100% Nutzung der Papierhandtuchrolle, für eine kontinuierliche Versorgung. Zusätzlich bewirkt die Restrollenfunktion eine kontinuierliche Bevorratung, damit die Rollenhandtücher nicht ausgehen
B31: Seifenspender | C31: Manuelle oder elektronische Seifenspender (Schaumseife oder Flüssigseife)
B32: Spender | C32: Hiermit sind Handtuchspender, Toilettenpapierspender, Seifenspender und Desinfektionsspender (sowohl elektronische als auch manuelle Ausgabe) gemeint
B33: Spendersystem | C33: Spender mit einer kontrollierten Ausgabe
B34: Stärkenreduzierte Folienqualität | C34: Zur Einsparung von Material wurde eine optimierte Folie bei gleichbleibender Qualität eingesetzt.
B35: Toilettenpapierspender | C35: Umfasst Einzelblattentnahme, Kleinrollentoilettenpapierspender, Jumbo-Toilettenpapierspender usw.

Sheet Allgemein
C3: Checkliste Nachhaltigkeit in Reinigung & Hygiene
C8: Nachhaltigkeit im Unternehmen
C9: Unternehmen:
C11: Ermittlung des Status Quo zur Umsetzung der Nachhaltigkeitsthemen im Unternehmen. Die folgenden Fragen dienen zur Unterstützung.
C13: Hinweis: Grünes Feld = Drop-Down Menü zur Auswahl der Antwort Die grau hinterlegten Felder unter den Fragen bieten Platz für zusätzliche Informationen.
C15: Strategie und Governance
C16: Verfügen Sie über eine ausformulierte und dokumentierte Nachhaltigkeitstrategie? | D16: Nein
C18: Haben Sie unternehmensspezifische Nachhaltigkeitsziele definiert? | D18: Nein
C19: Wenn ja, welche?
C20: Gibt es bei Ihnen eine verantwortliche Person für die Umsetzung der Maßnahmen zur Zielerreichung? | D20: Nein
C21: Nennung der verantwortlichen Personen/Team:
C22: Kontrollieren Sie Ihre Fortschritte bei der Erreichung Ihrer Nachhaltigkeitsziele auf der Grundlage von KPIs? | D22: Nein
C23: Wenn nein, ist dies in der Zukunft geplant?
C24: Verfügen Sie über nachhaltigkeitsorientierte Zertifizierungen? | D24: Nein
C25: Wenn ja, welche ( EMAS, ISO, etc.)?
C26: Streben Sie (weitere) nachhaltigkeitsorientierte Zertifizierungen an? | D26: Nein
C27: Wenn ja, welche ( EMAS, ISO, etc.)?
C28: Management
C29: Berücksichtigen Sie Nachhaltigkeitsaspekte in Ihrem Gebäude- bzw. Energiemanagement? | D29: Nein
C30: Wenn ja, wie sieht das aus (z.B. Verwendung von erneuerbaren Energien, , Wärmepumpe, etc.)?
C31: Berücksichtigen Sie Nachhaltigkeitsaspekte in Ihrem Fuhrparkmanagement? | D31: Nein
C32: Wenn ja, definieren Sie dieses (z.B. Einsatz von E-Autos; Grenzwerte für CO2 Austoß; Tourenoptimierung):
C33: Berücksichtigen Sie Nachhaltigkeitsaspekte in Ihrem Abfallmanagement? | D33: Nein
C34: Wenn ja, welches (z.B. Vermeidung/ Reduzierung Abfall; konsequente Abfalltrennung; Nutzung digitaler Plattformen (wie Resourcify); Lieferantenvereinbarungen zu Abfallminimierung; etc.):
C35: Berücksichtigen Sie Nachhaltigkeitsaspekte in Ihrem Personalmanagement? | D35: Nein
C36: Wenn ja, definieren Sie dieses (z.B.Förderung von sozialem Engagement; Mitarbeiterschulungen/ Einarbeitungen; Bewerbermanagement; etc.):
C37: Berücksichtigen Sie Nachhaltigkeitsaspekte in Ihrem Lieferantenmanagement? | D37: Nein
C38: Wenn ja, definieren Sie dieses (z.B. Verhaltenskodex für Lieferanten; Voraussetzungen von Ecovadis-Evaluierung):
C39: Kommunikation
C40: Erstellen Sie einen Nachhaltigkeitsbericht? | D40: Nein
C41: Wenn nein, ist dies in der Zukunft geplant?
C42: Kommunizieren Sie darüberhinaus die Nachhaltigkeitsbestrebungen Ihres Unternehmens extern? | D42: Nein
C43: Wenn ja, definieren Sie diese (z.B. Social Media, Pressemitteilungen, Blogbeiträge, etc.)
C44: Kommunizieren Sie die Nachhaltigkeitsbestrebungen Ihres Unternehmens intern? | D44: Nein
C45: Wenn ja, definieren Sie diese (z.B. E-Mails, Newsletter, Intranet, etc.):

Sheet Handel und Belieferung
C3: Checkliste Nachhaltigkeit in Reinigung & Hygiene
C8: Bereich Handel und Belieferung
C10: Hauptlieferant:
C12: Ermittlung des Status Quo der Nachhaltigkeit beim Händler. Die folgenden Fragen dienen zur Unterstützung.
C14: Hinweis: Grünes Feld = Drop-Down Menü zur Auswahl der Antwort
C17: Lieferantenzertifizierungen
C19: Nicht EcoVadis evaluiert | I19: =VLOOKUP(C19,'Drop Down Menü'!A:B,2,0) -> 0
C20: Nicht EMAS zertifiziert | I20: =VLOOKUP('Handel und Belieferung'!C20,'Drop Down Menü'!A:B,2,0) -> 0
C21: Nicht ISO 14001 zertifiziert | I21: =VLOOKUP('Handel und Belieferung'!C21,'Drop Down Menü'!A:B,2,0) -> 0
C22: Nicht ISO 50001 zertifiziert | I22: =VLOOKUP('Handel und Belieferung'!C22,'Drop Down Menü'!A229:B230,2,0) -> 0
C23: Nicht ISO 9001 zertifiziert | I23: =VLOOKUP('Handel und Belieferung'!C23,'Drop Down Menü'!A:B,2,0) -> 0
C27: Beratungs-, Produkt- und Serviceangebote mit Nachhaltigkeitsschwerpunkt
C29: Angebot eines nachhaltiges Sortiments
C30: Produkte mit Nachhaltigkeitslabel sind nicht gesondert im Sortiment hervorgehoben | I30: =VLOOKUP(C30,'Drop Down Menü'!A:B,2,0) -> 0
C32: Serviceangebot zur Analyse der Nachhaltigkeit von Produkten
C33: nicht vorhanden | I33: =VLOOKUP(C33,'Drop Down Menü'!A:B,2,0) -> 0
C35: Serviceangebot zur Analyse der Nachhaltigkeit von Beschaffungsprozessen
C36: nicht vorhanden | I36: =VLOOKUP(C36,'Drop Down Menü'!A186:B188,2,0) -> 0
C38: Serviceangebot zur Unterstützung bei der Umsetzung der Anforderungen der Corporate Sustainability Reporting Directive (CSRD)
C39: nicht vorhanden | I39: =VLOOKUP(C39,'Drop Down Menü'!A190:B192,2,0) -> 0
C41: Beratung zu individuellen Abfallkonzepten
C42: Keine Beratung zu individuellen Abfallkonzepten | I42: =VLOOKUP(C42,'Drop Down Menü'!A195:B197,2,0) -> 0
C44: Beratung zu individuellen Mehrwegkonzepten
C45: Keine Beratung zu individuellen Mehrwegkonzepten | I45: =VLOOKUP(C45,'Drop Down Menü'!A199:B202,2,0) -> 0
C47: Angebot von Mehrwegbelieferungen
C48: nicht vorhanden | I48: =VLOOKUP(C48,'Drop Down Menü'!A204:B206,2,0) -> 0
C53: Ergänzende Angebote
C55: Kundenindividuelle E-Business-Lösungen
C56: nicht vorhanden | I56: =VLOOKUP(C56,'[1]Drop Down Menü'!A210:B211,2,0) -> 0
C58: Schulungs- und Veranstaltungsangebot
C59: nicht vorhanden | I59: =VLOOKUP(C59,'[1]Drop Down Menü'!A214:B215,2,0) -> 0
C63: Verankerung von Nachhaltigkeit beim Händler
C64: Diese Informationen erhalten Sie typischerweise auf der Webseite, dem LinkedIn-Auftritt oder von Ihrem persönlichen Ansprechpartner.
C66: Nachhaltigkeitsmanagement /-team
C67: nicht vorhanden | I67: =VLOOKUP(C67,'[1]Drop Down Menü'!A218:B219,2,0) -> 0
C69: Jährlicher Nachhaltigkeitsbericht
C70: nicht vorhanden | I70: =VLOOKUP(C70,'[1]Drop Down Menü'!A226:B227,2,0) -> 0
C72: Wissenschaftsbasiertes Klimaziel
C73: nicht vorhanden | I73: =VLOOKUP(C73,'[1]Drop Down Menü'!A222:B223,2,0) -> 0
C75: Berücksichtigung von Nachhaltigkeit im Fuhrpark
C76: nicht vorhanden | I76: =VLOOKUP(C76,'[1]Drop Down Menü'!A230:B231,2,0) -> 0
C78: Berücksichtigung von Nachhaltigkeit bei der Auswahl von Lieferanten
C79: nicht vorhanden | I79: =VLOOKUP(C79,'[1]Drop Down Menü'!A234:B235,2,0) -> 0
C83: Auswertung Handel und Belieferung
G84: MAX | H84: IST | I84: Prozent
C85: Auswertung Handel und Belieferung | G85: 223 | H85: =SUM(I16:I80) -> 0 | I85: =H85/G85 -> 0
C107: Hinweis: Der Status Quo bewertet hier nicht einen Grad der Nachhaltigkeit.

Sheet Dosierhilfen
B3: Checkliste Nachhaltigkeit in Reinigung & Hygiene
B6: Dosierhilfen
C8: Korrekte Dosierung ist wichtiger Bestandteil der Nachhaltigkeit.
C10: Systeme und Hilfsmittel
C13: Gebäudereinigung
C15: Organisation im Objekt/Bereich | J15: Punkte
C16: Keine Pläne/Dosieranleitungen | J16: =VLOOKUP(Dosierhilfen!C16,'Drop Down Menü'!A322:B325,2,0) -> 0
C18: Dosierhilfen und Dosiergeräte
C19: Keine Dosierhilfen | J19: =VLOOKUP(Dosierhilfen!C19,'Drop Down Menü'!A329:B332,2,0) -> 0
C22: Keine Dosierhilfen: Anwender geben Chemie ohne Messeinrichtung zu
C23: Dosierhilfen wie Flaschenaufsatz, Messbecher: werden zur Unterstützung zur
C24: Verfügung gestellt
C25: mobile Dosierhilfen mit Zwangsdosierung: Chemie wird bereits zur Anwendung zwangs-
C26: gemischt (z.B. Quick&Easy), Anwendungslösung ist gebrauchsfertig oder Textilien
C27: sind bereits anwendungsfertig vorbereitet
C28: Wanddosierung oder Dosieranlagen: diese sind an zentralen Orten zur Befüllung mit Lösung
C29: montiert, diese Anlagen geben eine feste Dosierung vor.
C33: Methoden der Reinigung
C35: Hier wird gefragt, wie die Reinigungstextilien, also Tücher und Möppe, vor Ort
C36: eingesetzt werden - klassische Eimer/Pressen Methode
C37: oder Verwendung von optimierten Systemen auch ggf. in Verbindung mit Waschsystemen
C39: Mit welcher Methode reinigen Sie?
C40: Eimer & Presse | J40: =VLOOKUP(Dosierhilfen!C40,'Drop Down Menü'!A317:B319,2,0) -> 0
C42: Eimer/Presse: Textilien werden in Lösung getaucht und manuell gepresst
C43: Manuelle Aufbereitung: Textilien werden in Behälter vorab mit definierter
C44: Reinigungslösung benetzt und sind für den Einsatz fertig vorbereitet
C45: Maschinelle Vorbereitung: Reinigungslösung wird automatisch beim Waschvorgang in die
C46: Textilien eingebracht (durch die Waschmaschine)
C50: Einzelbewertungen | G50: MAX | H50: IST | I50: Prozent
C51: Dosierhilfen | G51: 18 | H51: =J16+J19 -> 0 | I51: =H51/G51 -> 0
C52: Methoden | G52: 20 | H52: =J40 -> 0 | I52: =H52/G52 -> 0
C53: SUMME Dosierhilfen und Methoden | G53: =G51+G52 -> 38 | H53: =H51+H52 -> 0 | I53: =H53/G53 -> 0

Sheet Reinigungsmittel
C4: Checkliste Nachhaltigkeit in Reinigung & Hygiene
C7: Bereich Reinigungs- und Desinfektionsmittel
C9: Haupthersteller:
C11: Ermittlung des Status Quo zur Umsetzung der Nachhaltigkeitsthemen im Unternehmen. Die folgenden Fragen dienen zur Unterstützung.
C13: Hinweis: Grünes Feld = Drop-Down Menü zur Auswahl der Antwort Blöcke, die auf Sie zutreffen bitte mit "ja" kennzeichnen und ausfüllen. Blöcke mit "nein" überspringen.
C16: Hersteller und Nachhaltigkeit
C18: Hier kann der Hersteller der Reinigungsmittel auf nachhaltige Ausrichtung und Produktion sowie ökologisches Gesamtkonzept bewertet werden.
C20: Nicht EcoVadis evaluiert | J20: =VLOOKUP(C20,'Drop Down Menü'!A220:B222,2,0) -> 0
C21: Nicht EMAS zertifiziert | J21: =VLOOKUP(C21,'Drop Down Menü'!A217:B218,2,0) -> 0
C22: Nicht ISO 14001 zertifiziert | J22: =VLOOKUP(C22,'Drop Down Menü'!A225:B226,2,0) -> 0
C23: Nicht ISO 50001 zertifiziert | J23: =VLOOKUP(C23,'Drop Down Menü'!A229:B230,2,0) -> 0
C24: Nicht ISO 9001 zertifiziert | J24: =VLOOKUP(C24,'Drop Down Menü'!A233:B234,2,0) -> 0
C27: Allgemeine Gebäudereinigung
C30: Oberflächen Unterhaltsreinigung | D30: Nein
C32: Nachhaltigkeitslabel
C33: Kein Nachhaltigkeitslabel | J33: =VLOOKUP(C33,'Drop Down Menü'!A17:B19,2,0) -> 0
C35: Verpackung
C37: Verpackung bezieht sich auf das Gebinde (z.B. Flasche) und die Umverpackung (z.B: Karton) Dabei sollen die in Mehrzahl verwendeten Gebinde und Verpackungen berücksichtigt werden.
C40: Gebinde (z.B. Flasche, Kanister, etc) Recyclatanteil
C41: Gebindeverpackungen ohne Recyklatanteil | J41: =VLOOKUP(C41,'Drop Down Menü'!A2:B5,2,0) -> 0
C43: Hier wird nach dem Anteil des wiederverwendeten Plastiks in der Flasche/dem Kanister gefragt (der Hersteller gibt i.d.R. Auskunft über die Werte)
C45: Umverpackung (Karton, Sack, etc.) Recyklatanteil
C46: Umverpackung ohne Recyklatanteil | J46: =VLOOKUP(C46,'Drop Down Menü'!A8:B9,2,0) -> 0
C48: Die Umverpackung ist der Karton/ die Folie um z.B. Flasche oder Kanister
C52: Sanitärreinigung | D52: Nein
C54: Nachhaltigkeitslabel
C55: Kein Nachhaltigkeitslabel | J55: =VLOOKUP(C55,'Drop Down Menü'!A17:B19,2,0) -> 0
C57: Verpackung
C59: Verpackung bezieht sich auf das Gebinde (z.B. Flasche) und die Umverpackung (z.B: Karton) Dabei sollen die in Mehrzahl verwendeten Gebinde und Verpackungen berücksichtigt werden.
C62: Gebinde (z.B. Flasche, Kanister, etc) Recyclatanteil
C63: Gebindeverpackungen ohne Recyklatanteil | J63: =VLOOKUP(C63,'Drop Down Menü'!A2:B5,2,0) -> 0
C65: Umverpackung (Karton, Sack, etc.) Recyclatanteil
C66: Umverpackung ohne Recyklatanteil | J66: =VLOOKUP(C66,'Drop Down Menü'!A8:B9,2,0) -> 0
C70: Bodenreinigung | D70: Nein
C72: Nachhaltigkeitslabel
C73: Kein Nachhaltigkeitslabel | J73: =VLOOKUP(C73,'Drop Down Menü'!A17:B19,2,0) -> 0
C75: Verpackung
C77: Verpackung bezieht sich auf das Gebinde (z.B. Flasche) und die Umverpackung (z.B: Karton) Dabei sollen die in Mehrzahl verwendeten Gebinde und Verpackungen berücksichtigt werden.
C80: Gebinde (z.B. Flasche, Kanister, etc) Recyclatanteil
C81: Gebindeverpackungen ohne Recyklatanteil | J81: =VLOOKUP(C81,'Drop Down Menü'!A2:B5,2,0) -> 0
C83: Umverpackung (Karton, Sack, etc.) Recyclatanteil
C84: Umverpackung ohne Recyklatanteil | J84: =VLOOKUP(C84,'Drop Down Menü'!A8:B9,2,0) -> 0
C90: Küchenhygiene und Reinigung | D90: Nein
C93: GSM-Reiniger/Klarspüler (für die Reinigung im Geschirrspüler eingesetztes Reinigungsmittel)
C94: Nachhaltigkeitslabel
C95: Kein Nachhaltigkeitslabel | J95: =VLOOKUP(C95,'Drop Down Menü'!A17:B19,2,0) -> 0
C97: Gebinde (z.B. Flasche, Kanister, etc) Recyclatanteil
C98: Gebindeverpackungen ohne Recyklatanteil | J98: =VLOOKUP(C98,'Drop Down Menü'!A2:B5,2,0) -> 0
C100: Umverpackung (Karton, Sack, etc.) Recyclatanteil
C101: Umverpackung ohne Recyklatanteil | J101: =VLOOKUP(C101,'Drop Down Menü'!A8:B9,2,0) -> 0
C104: Umfeldreinigung (z.B. Fettlöser, Grillreiniger, Entkalker, etc.)
C105: Nachhaltigkeitslabel
C106: Kein Nachhaltigkeitslabel | J106: =VLOOKUP(C106,'Drop Down Menü'!A17:B19,2,0) -> 0
C108: Gebinde (z.B. Flasche, Kanister, etc) Recyclatanteil
C109: Gebindeverpackungen ohne Recyklatanteil | J109: =VLOOKUP(C109,'Drop Down Menü'!A2:B5,2,0) -> 0
C111: Umverpackung (Karton, Sack, etc.) Recyclatanteil
C112: Umverpackung ohne Recyklatanteil | J112: =VLOOKUP(C112,'Drop Down Menü'!A8:B9,2,0) -> 0
C117: Wäscherei | D117: Nein
C118: Die Wäsche kann mit automatischen Dosiersystemen (in der Regel mit Flüssigwaschmitteln als Komponente) erfolgen oder mit Waschpulver oder Tabs. Automatische Dosiersysteme sind besonders anwendersicher und nachhaltig
C120: Waschsysteme
C121: Wäsche mehrheitlich ohne autom. Dosiersysteme | J121: =VLOOKUP(C121,'Drop Down Menü'!A22:B23,2,0) -> 0
C123: Unabhängig vom mehrheitlich eingesetzen System (immer ausfüllen)
C124: Eingesetzte Reinigungsmittel bei Wäsche mit autom. Dosiersystemen
C125: Nachhaltigkeitslabel
C126: Kein Nachhaltigkeitslabel | J126: =VLOOKUP(C126,'Drop Down Menü'!A17:B19,2,0) -> 0
C128: Eingesetzte Pulver-/Feststoffwaschmittel
C129: Nachhaltigkeitslabel
C130: Kein Nachhaltigkeitslabel | J130: =VLOOKUP(C130,'Drop Down Menü'!A17:B19,2,0) -> 0
C134: Auswertung Reinigungschemie
C136: Einzelbewertungen | G136: MAX | H136: IST | I136: Prozent
C137: Oberflächen Unterhaltsreinigung | G137: =IF(D30="ja",32,0) -> 0 | H137: =IF(D30="JA", J33+J41+J46,0) -> 0 | I137: =IF(G137,H137/G137,0) -> 0
C138: Sanitärreinigung | G138: =IF(D52="ja",32,0) -> 0 | H138: =IF(D52="JA",J55+J63+J66,0) -> 0 | I138: =IF(G138,H138/G138,0) -> 0
C139: Bodenreinigung | G139: 32 | H139: =J73+J81+J84 -> 0 | I139: =H139/G139 -> 0
C140: Herstellerbewertung | G140: 55 | H140: =SUM(J20:J24) -> 0 | I140: =H140/G140 -> 0
C141: Küche GSM & Umfeldreinigung | G141: 64 | H141: =J95+J98+J101+J106+J109+J112 -> 0 | I141: =H141/G141 -> 0
C142: Wäscherei | G142: =IF(D117="ja",45,0) -> 0 | H142: =IF(D117="JA",J121+J126+J130,0) -> 0 | I142: =IF(G142,H142/G142,0) -> 0
C143: SUMME Reinigungsmittel | G143: =SUM(G137:G142) -> 151 | H143: =SUM(H137:H142) -> 0 | I143: =H143/G143 -> 0
C167: Hinweis: Der Status Quo bewertet hier nicht einen Grad der Nachhaltigkeit.

Sheet Reinigungsgeräte und -textilien
C3: Checkliste Nachhaltigkeit in Reinigung & Hygiene
C7: Bereich Reinigungstextilien und Reinigungsgeräte
C8: Haupthersteller:
C10: Ermittlung des Status Quo zur Umsetzung der Nachhaltigkeitsthemen im Unternehmen. Die folgenden Fragen dienen zur Unterstützung.
C12: Hinweis: Grünes Feld = Drop-Down Menü zur Auswahl der Antwort Graues Feld = Bitte bezüglich der darüber stehenden Frage ausfüllen
C15: Hersteller und Nachhaltigkeit
C17: Hier kann der Hersteller der Reinigungstextilien und Reinigungsgeräte auf nachhaltige Ausrichtung und Produktion sowie ökologisches Gesamtkonzept bewertet werden.
C19: Nicht EcoVadis evaluiert | J19: =VLOOKUP(C19,'Drop Down Menü'!A221:B222,2,0) -> 0
C20: Nicht EMAS zertifiziert | J20: =VLOOKUP(C20,'Drop Down Menü'!A217:B218,2,0) -> 0
C21: Nicht ISO 14001 zertifiziert | J21: =VLOOKUP(C21,'Drop Down Menü'!A225:B226,2,0) -> 0
C22: Nicht ISO 50001 zertifiziert | J22: =VLOOKUP(C22,'Drop Down Menü'!A229:B230,2,0) -> 0
C23: Nicht ISO 9001 zertifiziert | J23: =VLOOKUP(C23,'Drop Down Menü'!A233:B234,2,0) -> 0
C25: Allgemeine Gebäudereinigung
C27: Status Quo des Unternehmens:
C28: Welche Reinigungstextilien werden eingesetzt? (Tücher, Wischbezüge, etc.)
C29: Bitte hier eintragen
C30: Welche Reinigungsutensilien werden eingesetzt? (Reinigungswagen, etc.)
C31: Bitte hier eintragen
C32: Brauche ich wirklich alle eingesetzten Materialien?
C33: Wenn nein, welche nicht?
C34: Habe ich Waschmaschinen im Haus oder wasche ich extern?
C35: Bitte hier eintragen
C36: Mit welchem Reinigungssystem arbeite ich? (Taschenwischbezüge, doppelseitige Wischbezüge, etc.)
C37: Bitte hier eintragen
... C46: Nachhaltigkeitslabel von Reinigungstextilien und Reinigunsgeräte in der Bodenreinigung
C47: Keine Nachhaltigkeitslabel | J47: =VLOOKUP(C47,'Drop Down Menü'!A40:B41,2,0) -> 0
C49: Recyklatanteil der Reinigungstextilien und Reinigungsgeräte in der Bodenreinigung
C50: Kein Recyklatanteil | J50: =VLOOKUP(C50,'Drop Down Menü'!A26:B29,2,0) -> 0
C52: Wie werden die Reinigungstextilien und Reinigungsgeräte in der Bodenreinigung entsorgt?
C53: Die Produkte werden nicht recycelt. | J53: =VLOOKUP(C53,'Drop Down Menü'!A36:B37,2,0) -> 0
C55: Recyclatanteil der Unter- und Umverpackungen der Reinigungstextilien und Reinigungsgeräte in der Bodenreinigung
C56: Verpackungen ohne Recyklatanteil | J56: =VLOOKUP(C56,'Drop Down Menü'!A48:B51,2,0) -> 0
C58: Ergonomie der Reinigungstextilien und Reinigungsgeräte in der Bodenreinigung
C59: Die Produkte sind nicht ergonomisch zertifziert | J59: =VLOOKUP(C59,'Drop Down Menü'!A44:B45,2,0) -> 0
C61: Haltbarkeit der Reinigungstextilien in der Bodenreinigung
C62: 0 Wäschen | J62: =VLOOKUP(C62,'Drop Down Menü'!A54:B57,2,0) -> 0
C64: Reinigungstextilien und Reinigungsgeräte in der Oberflächenreinigung
C65: Bitte bewerten Sie die hauptsächlich verwendeten Reinigungstextilien, wie z.B. Tücher
C67: Nachhaltigkeitslabel von Reinigungstextilien und Reinigungsgeräten in der Oberflächenreinigung
C68: Keine Nachhaltigkeitslabel | J68: =VLOOKUP(C68,'Drop Down Menü'!A40:B41,2,0) -> 0
C70: Recyklatanteil der Reinigungstextilien und Reinigungsgeräten in der Oberflächenreinigung
C71: Kein Recyklatanteil | J71: =VLOOKUP(C71,'Drop Down Menü'!A26:B29,2,0) -> 0
C73: Entsorgung der Reinigungstextilien und Reinigungsgeräte in der Oberflächenreinigung
C74: Die Produkte werden nicht recycelt. | J74: =VLOOKUP(C74,'Drop Down Menü'!A36:B37,2,0) -> 0
C76: Recyklatanteil der Unter- und Umverpackungen der Reinigungsutensilien in der Oberflächenreinigung
C77: Verpackungen ohne Recyklatanteil | J77: =VLOOKUP(C77,'Drop Down Menü'!A48:B51,2,0) -> 0
C79: Haltbarkeit der Reinigungstextilien in der Oberflächenreinigung
C80: 0 Wäschen | J80: =VLOOKUP(C80,'Drop Down Menü'!A65:B67,2,0) -> 0
C82: Reinigungswagen
C84: Nachhaltigkeitslabel von Reinigungswagen
C85: Keine Nachhaltigkeitslabel | J85: =VLOOKUP(C85,'Drop Down Menü'!A40:B41,2,0) -> 0
C87: Recyklatanteil der nicht strukturrelevanten Teile des Reinigungswagens
C88: Kein Recyklatanteil | J88: =VLOOKUP(C88,'Drop Down Menü'!A26:B29,2,0) -> 0
C90: Entsorgung der Reinigungswagen nach Gebrauch
C91: Der Reinigungswagen kann nicht auseinander gebaut werden | J91: =VLOOKUP(C91,'Drop Down Menü'!A75:B77,2,0) -> 0
C93: Recyklatanteil Verpackung
C94: Verpackungen ohne Recyklatanteil | J94: =VLOOKUP(C94,'Drop Down Menü'!A48:B51,2,0) -> 0
C96: Ersatzteile / Reparaturfähigkeit des Reinigungswagen
C97: Keine Ersatzteile vorhanden | J97: =VLOOKUP(C97,'Drop Down Menü'!A60:B62,2,0) -> 0
C99: Modularität des Reinigungswagen
C100: Der Reinigungswagen ist nicht modular | J100: =VLOOKUP(C100,'Drop Down Menü'!A80:B82,2,0) -> 0
C102: Haltbarkeit der Reinigungswagen
C103: Unter 5 Jahren | J103: =VLOOKUP(C103,'Drop Down Menü'!A70:B72,2,0) -> 5
C107: Auswertung Reinigungsgeräte und -textilien
G108: MAX | H108: IST | I108: PROZENT
C109: Hersteller und Nachhaltigkeit von Reinigungsgeräten und -textilien | G109: 55 | H109: =SUM(J19:J23) -> 0 | I109: =H109/G109 -> 0
C110: Bodenreinigung Reinigungsgeräte und -textilien | G110: 65 | H110: =J47+J50+J53+J56+J62+J59 -> 0 | I110: =H110/G110 -> 0
C111: Oberflächenreinigung Reinigungsgeräte und -textilien | G111: 50 | H111: =J68+J71+J74+J77+J80 -> 0 | I111: =H111/G111 -> 0
C112: Reinigungswagen | G112: 90 | H112: =J85+J88+J91+J94+J97+J100+J103 -> 5 | I112: =H112/G112 -> 0.055555556
C113: Auswertung Reinigungsgeräte und -textilien | G113: =SUM(G109:G112) -> 260 | H113: =SUM(H109:H112) -> 5 | I113: =H113/G113 -> 0.019230769
C163: Gesamtauswertung
C165: Reinigungs.- und Desinfektionsmittel | H165: 104
C166: Waschraum & Hygienepapier | H166: 69
C167: Reinigungstextil und Utensilien | H167: =H113 -> 5
C168: Handel und Belieferung | H168: 122
C169: SUMME Reinigungstextil und Utensilien | H169: =SUM(H165:H168) -> 300
G170: 0-150 wenig nachhaltig
G171: 150-250 bedingt nachhaltig
G172: 250 und mehr nachhaltig

Sheet Waschraum- Hygienepapier
B3: Checkliste Nachhaltigkeit für Ihre Waschräume
C6: Bereich Waschraum und Hygienepapiere
C8: Haupthersteller:
C10: Ermittlung des Status Quo zur Umsetzung der Nachhaltigkeitsthemen im Unternehmen. Die folgenden Fragen dienen zur Unterstützung.
C12: Hinweis: Grünes Feld = Drop-Down Menü zur Auswahl der Antwort Bitte den Reiter Waschraum nur ausfüllen, wenn Sie den Bereich Waschraum in Eigenregie betreiben.
C15: Hersteller und Nachhaltigkeit
C17: Hier kann der Hersteller des Waschraum und Hygienepapiers auf nachhaltige Ausrichtung und Produktion sowie ökologisches Gesamtkonzept bewertet werden.
C19: Nicht EcoVadis evaluiert | J19: =VLOOKUP(C19,'Drop Down Menü'!A221:B222,2,0) -> 0
C20: Nicht EMAS zertifiziert | J20: =VLOOKUP(C20,'Drop Down Menü'!A217:B218,2,0) -> 0
C21: Nicht ISO 14001 zertifiziert | J21: =VLOOKUP(C21,'Drop Down Menü'!A225:B226,2,0) -> 0
C22: Nicht ISO 50001 zertifiziert | J22: =VLOOKUP(C22,'Drop Down Menü'!A229:B230,2,0) -> 0
C23: Nicht ISO 9001 zertifiziert | J23: =VLOOKUP(C23,'Drop Down Menü'!A233:B234,2,0) -> 0
C27: Ausstattung der Waschräume
C29: Je nach Menge der sich im Einsatz befindlichen Spender, kann bei einer etwaigen Spenderumstellung ein Spenderrecycling durchgeführt werden.
C31: Anzahl der verwendeten Spender (Seife, Desinfektion, Toilettenpapier & Handtuch zusammen) | J31: Punkte
C32: 0-50 | J32: =VLOOKUP(C32,'Drop Down Wasch'!A2:B4,2,0) -> 5
C34: Hygienepapiere im Einsatz
C35: Nein | J35: =VLOOKUP(C35,'Drop Down Wasch'!A7:B8,2,0) -> 0
C37: Art der Handtuchspender
C38: keine Handtuchspender für Hygienepapier | J38: =VLOOKUP(C38,'Drop Down Wasch'!A11:B13,2,0) -> 0
C40: Art der Toilettenpapierspender
C41: Rollenspender | J41: =VLOOKUP(C41,'Drop Down Wasch'!A16:B17,2,0) -> 0
C43: Art der Seifenspender
C44: Flüssigseife | J44: =VLOOKUP(C44,'Drop Down Wasch'!A20:B21,2,0) -> 0
C46: Desinfektionsmittel im Einsatz
C47: Nein | J47: =VLOOKUP(C47,'Drop Down Wasch'!A24:B25,2,0) -> 0
C51: Waschraumkonzepte
C54: Nachhaltige Systeme
C56: Nachhaltige Waschraumkonzepte beinhalten idealerweise neben Spendern mit einer kontrollierten Aussgabe, frei nach dem Leitsatz "weniger verwenden, weniger verschwenden" auch Recyclinglösungen und betrachten den Waschraum ganzheitlich. Hierbei wird bei der Produktauswahl auch in Bezug auf Lagerung, Nachfüllzeiten, Wasserverbrauch und andere Faktoren geachtet.
C58: Spendersysteme für Hygienepapiere
C59: keine kontrollierte Ausgabe | J59: =VLOOKUP(C59,'Drop Down Wasch'!A28:B29,2,0) -> 0
C61: Restrollenfunktion
C62: Keine Restrollenfunktion vorhanden | J62: =VLOOKUP(C62,'Drop Down Wasch'!A32:B33,2,0) -> 0
C64: Recyklatfaseranteil Hygienepapiere
C65: Kein Anteil an Recyklatfaser | J65: =VLOOKUP(C65,'Drop Down Wasch'!A54:B57,2,0) -> 0
C67: Recycling für Hygienepapiere
C68: kein Interesse/nicht erwünscht | J68: =VLOOKUP(C68,'Drop Down Wasch'!A40:B43,2,0) -> 0
C70: Dosierhilfe Seife
C71: Nicht vorhanden | J71: =VLOOKUP(C71,'Drop Down Wasch'!A36:B37,2,0) -> 0
C73: Nachhaltiges Produktdesign
C74: nicht vorhanden | J74: =VLOOKUP(C74,'Drop Down Wasch'!A46:B47,2,0) -> 0
C76: Produkte mit Nachhaltigkeitslabel im Einsatz
C77: Keine Nachhaltigkeitslabel | J77: =VLOOKUP(C77,'Drop Down Wasch'!A50:B51,2,0) -> 0
C79: Ersatzteile
C80: Keine Ersatzteile vorhanden | J80: =VLOOKUP(C80,'Drop Down Wasch'!A60:B61,2,0) -> 0
C86: Auswertung Waschraum & Hygienepapier
G87: MAX | H87: IST | I87: Prozent
C88: Hersteller und Nachhaltigkeit | G88: 55 | H88: =SUM(J20:J23) -> 0 | I88: =H88/G88 -> 0
C89: Ausstattung der Waschräume | G89: 50 | H89: =J32+J35+J38+J41+J44+J47 -> 5 | I89: =H89/G89 -> 0.1
C90: Waschraumkonzepte | G90: 75 | H90: =J59+J62+J65+J68+J71+J74+J77+J80 -> 0 | I90: =H90/G90 -> 0
C91: Auswertung Waschraum & Hygienepapier | G91: =SUM(G89:G90) -> 125 | H91: =SUM(H89:H90) -> 5 | I91: =H91/G91 -> 0.04

Sheet Drop Down Wasch
A1: Anzahl der verwendeten Spender (Seife, Desinfektion, Toilettenpapier & Handtuch zusammen)
A2: 0-50 | B2: 5
A3: 50-100 | B3: 10
A4: über 100 | B4: 15
A6: Hygienepapier im Einsatz
A7: Ja | B7: 10
A8: Nein | B8: 0
A10: Art der Handtuchspender
A11: keine Handtuchspender für Hygienepapier | B11: 0
A12: Falthandtuchspender | B12: 5
A13: Rollenhandtuchspender | B13: 10
A15: Art der Toilettenpapierspender
A16: Rollenspender | B16: 0
A17: Einzelblattentnahme | B17: 5
A19: Art der Seifenspender
A20: Flüssigseife | B20: 0
A21: Schaumseife | B21: 5
A23: Desinfektionsmittel im Einsatz
A24: Ja | B24: 5
A25: Nein | B25: 0
A27: Spendersysteme für Hygienepapier
A28: Kontrollierte Ausgabe | B28: 10
A29: keine kontrollierte Ausgabe | B29: 0
A31: Restrollenfunktion
A32: Spender mit Restrollenfunktion | B32: 5
A33: Keine Restrollenfunktion vorhanden | B33: 0
A35: Dosierhilfe Seife
A36: Vorhanden | B36: 5
A37: Nicht vorhanden | B37: 0
A39: Recycling für Hygienepapier
A40: bereits im Einsatz | B40: 15
A41: in Planung | B41: 10
A42: Interesse | B42: 5
A43: kein Interesse/nicht erwünscht | B43: 0
A45: Nachhaltiges Produktdesign
A46: vorhanden | B46: 10
A47: nicht vorhanden | B47: 0
A49: Nachhaltigkeitslabel
A50: Keine Nachhaltigkeitslabel | B50: 0
A51: Mehrzahl der Reinigungsutensilien mit Ecolabel z.B. FSC, Blauer Engel | B51: 10
A53: Recyclingfaseranteil Hygienepapier
A54: Kein Anteil an Recyklatfaser | B54: 0
A55: Anteil der Recyklatfaser <50% | B55: 5
A56: Anteil der Recyklatfaser 50%-80% | B56: 10
A57: Anteil der Recyklatfaser >80% | B57: 15
A59: Ersatzteile
A60: Keine Ersatzteile vorhanden | B60: 0
A61: Ersatzteile sind verfügbar | B61: 5
A63: Bewertung der Wertschöpfung
A64: Hersteller ist ECOVADIS zertifiziert | B64: 10
A65: Hersteller hat keine ECOVADIS Zertifizierung | B65: 0
A66: Nicht ISO 14001 zertifiziert | B66: 0
A67: ISO 14001 zertifiziert | B67: 5
A68: Nicht ISO 50001 zertifiziert | B68: 0
A69: ISO 50001 zertifiziert | B69: 5
A70: Nicht ISO 9001 zertifiziert | B70: 0
A71: ISO 9001 zertifiziert | B71: 5
A72: Nicht ISO 45001 zertifiziert | B72: 0
A73: ISO 45001 zertifiziert | B73: 5
A75: SUMME Hersteller und Nachhaltigkeit
A76: Nadel
A77: Wert | B77: =VLOOKUP('Waschraum- Hygienepapier'!C88,'Waschraum- Hygienepapier'!C88:I88,7,0) -> 0
A78: Breite | B78: 0.005
A79: Ende | B79: =2-B77-B78 -> 1.995
A81: SUMME Austattung der Waschräume
A82: Nadel
A83: Wert | B83: =VLOOKUP('Waschraum- Hygienepapier'!C89,'Waschraum- Hygienepapier'!C89:I89,7,0) -> 0.1
A84: Breite | B84: 0.005
A85: Ende | B85: =2-B83-B84 -> 1.895
A87: SUMME Austattung der Waschräume
A88: Nadel
A89: Wert | B89: =VLOOKUP('Waschraum- Hygienepapier'!C90,'Waschraum- Hygienepapier'!C90:I90,7,0) -> 0
A90: Breite | B90: 0.005
A91: Ende | B91: =2-B89-B90 -> 1.995
A93: SUMME Waschraum & Hygienepapier
A94: Nadel
A95: Wert | B95: =VLOOKUP('Waschraum- Hygienepapier'!C91,'Waschraum- Hygienepapier'!C91:I91,7,0) -> 0.04
A96: Breite | B96: 0.005
A97: Ende | B97: =2-B95-B96 -> 1.955

Sheet Abfallsäcke und Entsorgung
C3: Checkliste Nachhaltigkeit in Reinigung & Hygiene
C7: Bereich Abfallsäcke und Entsorgung
C9: Haupthersteller:
C11: Ermittlung des Status Quo zur Umsetzung der Nachhaltigkeitsthemen im Unternehmen. Die folgenden Fragen dienen zur Unterstützung.
C13: Hinweis: Grünes Feld = Drop-Down Menü zur Auswahl der Antwort
C16: Hersteller und Nachhaltigkeit
C18: Hier kann der Hersteller der Abfallsäcke auf nachhaltige Ausrichtung und Produktion sowie ökologisches Gesamtkonzept bewertet werden.
C20: Nicht EcoVadis evaluiert | I20: =VLOOKUP(C20,'Drop Down Menü'!A220:B222,2,0) -> 0
C21: Nicht EMAS zertifiziert | I21: =VLOOKUP(C21,'Drop Down Menü'!A216:B218,2,0) -> 0
C22: Nicht ISO 14001 zertifiziert | I22: =VLOOKUP(C22,'[2]Drop Down Menü'!A194:B195,2,0) -> 0
C23: Nicht ISO 50001 zertifiziert | I23: =VLOOKUP(C23,'[2]Drop Down Menü'!A198:B199,2,0) -> 0
C24: Nicht ISO 9001 zertifiziert | I24: =VLOOKUP(C24,'[2]Drop Down Menü'!A202:B203,2,0) -> 0
C28: Nachhaltige Systeme und Rohstoffe
C30: Verfügt der Hersteller Ihrer Abfallsäcke über ein Kreislaufsystem (Rückholung) zur Wiederverwendung bereits genutzter Rohstoffe? | I30: Punkte
C31: Nein | I31: =VLOOKUP(C31,'[2]Drop Down Abfallsäcke'!B3:C4,2,0) -> 0
C33: Welche Art von Recyklatrohstoffen wird für die Abfallsäcke und Müllbeutel verwendet?
C34: Es werden keine recycelten Rohstoffe verwendet | I34: =VLOOKUP(C34,'Drop Down Abfallsäcke'!B7:C9,2,0) -> 0
C36: Werden stärkenreduzierte Folienqualitäten (Dünnere Folie bei gleicher Qualität) eingesetzt?
C37: Nein | I37: =VLOOKUP(C37,'[2]Drop Down Abfallsäcke'!B10:C11,2,0) -> 0
C39: Nachhaltigkeitszertifizierungen und Recyclinganteile
C41: Nachhaltigkeitslabel von Abfallsäcken
C42: Keine Nachhaltigkeitslabel | I42: =VLOOKUP(C42,'[2]Drop Down Abfallsäcke'!B14:C15,2,0) -> 0
C44: Wie hoch ist der durchschnittliche Recyklatanteil der von Ihnen eingesetzten Folien?
C45: 0% Recyklatanteil | I45: =VLOOKUP(C45,'[2]Drop Down Abfallsäcke'!B17:C21,2,0) -> 0
C47: Wie hoch ist der Recyklatanteil bei den eingesetzten Banderolen und Kartons?
C48: Recyklatanteil <40% | I48: =VLOOKUP(C48,'[2]Drop Down Abfallsäcke'!B23:C25,2,0) -> 3
C50: Sind die Banderolen und Kartons aus FSC-zertifiziertem Papier?
C51: Nein | I51: =VLOOKUP(C51,'[2]Drop Down Abfallsäcke'!B27:C28,2,0) -> 0
C55: Auswertung Abfallsäcke und Entsorgung
H56: MAX | I56: IST | J56: Prozent
C57: Nachhaltigkeitszertifizierungen des Herstellers | H57: 55 | I57: =SUM(I21:I24) -> 0 | J57: =I57/H57 -> 0
C58: Nachhaltige Systeme und Rohstoffe | H58: 30 | I58: =I31+I34+I37 -> 0 | J58: =I58/H58 -> 0
C59: Recyklatanteile | H59: 45 | I59: =I42+I45+I48+I51 -> 3 | J59: =I59/H59 -> 0.066666667
C60: Auswertung Abfallsäcke und Entsorgung | H60: =H57+H58+H59 -> 130 | I60: =I57+I58+I59 -> 3 | J60: =I60/H60 -> 0.023076923

Sheet Drop Down Abfallsäcke
B1: Punkte | C1: Punkte
A3: Kreislaufsystem | B3: Ja | C3: 10
B4: Nein | C4: 0
A5: Berichterstattung Carbon Footprint | B5: Ja | C5: 15
B6: Nein | C6: 0
A7: Welche Regenerate werden verwendet? | B7: Regenerat aus Industrieabfall | C7: 5
B8: Regenerat aus haushaltsnahen Abfällen | C8: 10
B9: Es werden keine recycelten Rohstoffe verwendet | C9: 0
A10: Stärkenreduzierte Folienqualität | B10: Ja | C10: 10
B11: Nein | C11: 0
A13: Nachhaltigkeitslabel
B14: Keine Nachhaltigkeitslabel | C14: 0
B15: Mehrzahl der Abfallsäcke mit Ecolabel z.B. Blauer Engel | C15: 10
A17: Recyclinganteil Produktkategorie | B17: 0% Recyklatanteil | C17: 0
B18: Recyklatanteil < 40% | C18: 5
B19: Recyklatanteil 40% bis 80% | C19: 10
B20: Recyklatanteil 80% bis 95% | C20: 15
B21: Recyklatanteil > 95% | C21: 20
A23: Recyclinganteil Verpackung | B23: Recyklatanteil <40% | C23: 3
B24: Recyklatanteil 40% bis 80% | C24: 6
B25: Recyklatanteil >80% | C25: 9
A27: FSC Zertifizierung | B27: Ja | C27: 6
B28: Nein | C28: 0
A31: ECOVADIS | B31: Platin | C31: 15
B32: Gold | C32: 10
B33: Silber | C33: 5
B34: Bronze | C34: 0
B35: Keine | C35: 0
A37: Lieferant ist EMAS-zertifiziert | B37: Ja | C37: 12
B38: Nein | C38: 0
A39: Iso 14001 Umweltmanagementsystem | B39: Ja | C39: 5
B40: Nein | C40: 0
A41: Iso 5001 Energiemanagementsystem | B41: Ja | C41: 5
B42: Nein | C42: 0
A44: SUMME Abfallsäcke
A45: Nadel
A46: Wert | B46: =VLOOKUP('Abfallsäcke und Entsorgung'!C60,'Abfallsäcke und Entsorgung'!C60:J60,8,0) -> 0.023076923
A47: Breite | B47: 0.005
A48: Ende | B48: =2-B46-B47 -> 1.9719231
A50: SUMME Hersteller und Nachhaltigkeit
A51: Nadel
A52: Wert | B52: =VLOOKUP('Abfallsäcke und Entsorgung'!C57,'Abfallsäcke und Entsorgung'!C57:J57,8,0) -> 0
A53: Breite | B53: 0.005
A54: Ende | B54: =2-B52-B53 -> 1.995
A56: Nachhaltige Systeme und Rohstoffe
A57: Nadel
A58: Wert | B58: =VLOOKUP('Abfallsäcke und Entsorgung'!C58,'Abfallsäcke und Entsorgung'!C58:J58,8,0) -> 0
A59: Breite | B59: 0.005
A60: Ende | B60: =2-B58-B59 -> 1.995
A62: Recyklatanteile
A63: Nadel
A64: Wert | B64: =VLOOKUP('Abfallsäcke und Entsorgung'!C59,'Abfallsäcke und Entsorgung'!C59:J59,8,0) -> 0.066666667
A65: Breite | B65: 0.005
A66: Ende | B66: =2-B64-B65 -> 1.9283333

Sheet Drop Down Unternehmen
B3: Frage | C3: Punkte
B5: Haben Sie unternehmensspezifische Nachhaltigkeitsziele definiert?
B6: Ja | C6: 15
B7: Nein | C7: 0
B9: Berücksichtigen Sie Nachhaltigkeitsaspekte in Ihrem Lieferantenmanagement?
B10: Ja | C10: 15
B11: Nein | C11: 0
B13: Erstellen Sie einen Nachhaltigkeitsbericht?
B14: Ja | C14: 15
B15: Nein | C15: 0
B17: Kommunizieren Sie darüberhinaus die Nachhaltigkeitsbestrebungen Ihres Unternehmens extern?
B18: Ja | C18: 15
B19: Nein | C19: 0

Sheet Fazit
C4: GESAMTÜBERBLICK ÜBER ALLE KATEGORIEN
C9: Handel und Belieferung | F9: Dosierhilfen
C25: Reinigungsmittel | F25: Reinigungsgeräte und -textilien
C40: Waschraum- Hygienepapiere | F40: Abfallsäcke und Entsorgung

Sheet Drop Down Menü
A1: Recyclatanteil Gebinde
A2: Gebindeverpackungen ohne Recyklatanteil | B2: 0
A3: Gebindeverpackung Recyklatanteil 20-40% | B3: 2
A4: Gebindeverpackung Recyklatanteil 41%-80% | B4: 6
A5: Gebindeverpackung Recyklatanteil >80% | B5: 9
A7: Umverpackung
A8: Umverpackung ohne Recyklatanteil | B8: 0
A9: Umverpackung mit Recyklatanteil | B9: 8
A11: Dosiersystem
A12: Keine Dosierhilfen | B12: 0
A13: Dosierhilfen vorhanden | B13: 5
A14: Dosierhilfen mit sicherer Dosierung (DOS-Anlage, Zwangsdosierung…) | B14: 10
A16: Nachhaltigkeitslabel
A17: Kein Nachhaltigkeitslabel | B17: 0
A18: Mehrzahl der Reinigungsmittel mit EU-Ecolabel (oder vergleichbar) | B18: 5
A19: Mehrzahl der Reinigungsmittel (zusätzlich) mit Cradle2Cradle Label | B19: 15
A21: Wäsche Systemabfrage
A22: Wäsche mit größerem Anteil mit Waschmaschinen mit autom. Dosiersystem | B22: 15
A23: Wäsche mehrheitlich ohne autom. Dosiersysteme | B23: 0
A25: Produkte Recyklatanteil
A26: Kein Recyklatanteil | B26: 0
A27: Recyklatanteil <40% | B27: 5
A28: Recyklatanteil 40%-80% | B28: 10
A29: Recyklatanteil >80% | B29: 15
A31: Nachhaltige Systeme/Konzepte
A32: Nachhaltige Konzepte vorhanden | B32: 5
A33: Kein nachhaltiges Konzept vorhanden | B33: 0
A35: Entsorgung der Produkte
A36: Die Produkte werden nicht recycelt. | B36: 0
A37: Mehrzahl der Produkte recycelbar oder kompostierbar | B37: 5
A39: Nachhaltigkeitslabel
A40: Keine Nachhaltigkeitslabel | B40: 0
A41: Mehrzahl der Reinigungsutensilien mit Ecolabel z.B. Nordic Swan | B41: 5
A43: Ergonomie
A44: Die Produkte sind nicht ergonomisch zertifziert | B44: 0
A45: Die Produkte sind ergonomisch zertifizierte Reinigungssysteme | B45: 10
A47: Verpackungen mit Recyklatanteil
A48: Verpackungen ohne Recyklatanteil | B48: 0
A49: Verpackung Recyklatanteil <40% | B49: 5
A50: Verpackung Recyklatanteil 40%-80% | B50: 10
A51: Verpackung Recyklatanteil >80% | B51: 15
A53: Haltbarkeit der Produkte
A54: 0 Wäschen | B54: 0
A55: 100-400 Wäschen | B55: 5
A56: 400-800 Wäschen | B56: 10
A57: 800-1000 Wäschen | B57: 15
A59: Ersatzteile / Reparaturfähigkeit
A60: Keine Ersatzteile vorhanden | B60: 0
A61: Ersatzteile sind unter 5 Jahren verfügbar | B61: 5
A62: Ersatzteile sind länger als 5 Jahre verfügbar | B62: 10
A64: Haltbarkeit der Produkte
A65: 0 Wäschen | B65: 0
A66: 0-200 Wäschen | B66: 5
A67: 200-400 Wäschen | B67: 10
A69: Haltbarkeit der Reinigungswagen
A70: Unter 5 Jahren | B70: 5
A71: Zwischen 5 und 10 Jahren | B71: 10
A72: Über 10 Jahre | B72: 15
A74: Entsorgung der Reinigungswagen nach Gebrauch
A75: Der Reinigungswagen kann nicht auseinander gebaut werden | B75: 0
A76: Der Reinigungswagen kann auseinander gebaut werden | B76: 10
A77: Der Reinigungswagen kann auseinander gebaut und die Mehrzahl der Teile recycelt werden | B77: 20
A79: Modularität des Reinigungswagen
A80: Der Reinigungswagen ist nicht modular | B80: 0
A81: Es sind verschiedene Varianten des Reinigungswagen verfügbar | B81: 5
A82: Der Reinigungswagen ist individuell gestaltbar | B82: 10
A84: Bewertung der Wertschöpfung
A85: Lieferant ist nicht EMAS-zertifiziert | B85: 0
A86: Lieferant ist EMAS-zertifiziert | B86: 5
A87: Lieferant ist nicht ECOVADIS zertifiziert | B87: 0
A88: Lieferant ist ECOVADIS bronze zertifiziert | B88: 5
A89: Lieferant ist ECOVADIS silber zertifiziert | B89: 15
A90: Lieferant ist ECOVADIS gold/platin zertifiziert | B90: 20
A91: Nicht ISO 14001 zertifiziert | B91: 0
A92: ISO 14001 zertifiziert | B92: 5
A93: Nicht ISO 50001 zertifiziert | B93: 0
A94: ISO 50001 zertifiziert | B94: 5
A95: Nicht ISO 9001 zertifiziert | B95: 0
A96: ISO 9001 zertifiziert | B96: 5
A100: Tacho
A101: Bereich 1 | B101: 0.1
A102: Bereich 2 | B102: 0.1
A103: Bereich 3 | B103: 0.1
A104: Bereich 4 | B104: 0.1
A105: Bereich 5 | B105: 0.1
A106: Bereich 6 | B106: 0.1
A107: Bereich 7 | B107: 0.1
A108: Bereich 8 | B108: 0.1
A109: Bereich 9 | B109: 0.1
A110: Bereich 10 | B110: 0.1
A111: Leer | B111: 1
A114: Nadel
A115: Wert | B115: =VLOOKUP(Reinigungsmittel!C143,Reinigungsmittel!C143:I143,7,0) -> 0
A116: Breite | B116: 0.005
A117: Ende | B117: =2-B115-B116 -> 1.995
A119: Tacho Bewertung Unterhaltsreinigung Oberflächen
A120: Nadel | D120: Oberflächen Unterhaltsreinigung
A121: Wert | B121: =VLOOKUP(Reinigungsmittel!$C$137,Reinigungsmittel!$C137:$I137,7,0) -> 0 | D121: Sanitärreinigung
A122: Breite | B122: 0.005 | D122: Bodenreinigung
A123: Ende | B123: =2-B121-B122 -> 1.995 | D123: Herstellerbewertung
...
